Package: moanin Version: 1.14.0 Command: /home/biocbuild/R/R/bin/R CMD INSTALL moanin StartedAt: 2025-03-31 20:35:29 -0000 (Mon, 31 Mar 2025) EndedAt: 2025-03-31 20:36:12 -0000 (Mon, 31 Mar 2025) EllapsedTime: 43.0 seconds RetCode: 0 Status: OK