Package: mnem Version: 1.22.0 Command: /home/biocbuild/R/R/bin/R CMD check --install=check:mnem.install-out.txt --library=/home/biocbuild/R/R/site-library --no-vignettes --timings mnem_1.22.0.tar.gz StartedAt: 2025-04-01 08:26:49 -0000 (Tue, 01 Apr 2025) EndedAt: 2025-04-01 08:29:07 -0000 (Tue, 01 Apr 2025) EllapsedTime: 138.2 seconds RetCode: 0 Status: WARNINGS CheckDir: mnem.Rcheck Warnings: 1