Package: mnem Version: 1.22.0 Command: /home/biocbuild/R/R/bin/R CMD build --keep-empty-dirs --no-resave-data mnem StartedAt: 2025-04-01 00:52:17 -0000 (Tue, 01 Apr 2025) EndedAt: 2025-04-01 00:53:51 -0000 (Tue, 01 Apr 2025) EllapsedTime: 94.0 seconds RetCode: 0 Status: OK PackageFile: mnem_1.22.0.tar.gz PackageFileSize: 3.172 MiB