Package: mnem Version: 1.22.0 Command: /Library/Frameworks/R.framework/Resources/bin/R CMD INSTALL mnem StartedAt: 2025-03-31 17:41:12 -0400 (Mon, 31 Mar 2025) EndedAt: 2025-03-31 17:41:46 -0400 (Mon, 31 Mar 2025) EllapsedTime: 33.1 seconds RetCode: 0 Status: OK