Package: mixOmics Version: 6.30.0 Command: /home/biocbuild/R/R/bin/R CMD INSTALL mixOmics StartedAt: 2025-03-31 20:42:21 -0000 (Mon, 31 Mar 2025) EndedAt: 2025-03-31 20:43:05 -0000 (Mon, 31 Mar 2025) EllapsedTime: 44.4 seconds RetCode: 0 Status: OK