Package: mixOmics Version: 6.30.0 Command: F:\biocbuild\bbs-3.20-bioc\R\bin\R.exe CMD INSTALL mixOmics StartedAt: 2025-03-31 15:40:08 -0400 (Mon, 31 Mar 2025) EndedAt: 2025-03-31 15:41:38 -0400 (Mon, 31 Mar 2025) EllapsedTime: 89.8 seconds RetCode: 0 Status: OK