Package: mixOmics Version: 6.30.0 Command: /Library/Frameworks/R.framework/Resources/bin/R CMD build --keep-empty-dirs --no-resave-data mixOmics StartedAt: 2025-04-01 03:20:33 -0400 (Tue, 01 Apr 2025) EndedAt: 2025-04-01 03:30:40 -0400 (Tue, 01 Apr 2025) EllapsedTime: 606.9 seconds RetCode: 0 Status: OK PackageFile: mixOmics_6.30.0.tar.gz PackageFileSize: 18.28 MiB