Package: mitoClone2 Version: 1.12.0 Command: /home/biocbuild/R/R/bin/R CMD INSTALL mitoClone2 StartedAt: 2025-03-31 20:35:28 -0000 (Mon, 31 Mar 2025) EndedAt: 2025-03-31 20:36:30 -0000 (Mon, 31 Mar 2025) EllapsedTime: 62.5 seconds RetCode: 0 Status: OK