Package: mitoClone2 Version: 1.12.0 Command: /Library/Frameworks/R.framework/Resources/bin/R CMD build --keep-empty-dirs --no-resave-data mitoClone2 StartedAt: 2025-04-01 03:19:49 -0400 (Tue, 01 Apr 2025) EndedAt: 2025-04-01 03:28:06 -0400 (Tue, 01 Apr 2025) EllapsedTime: 496.9 seconds RetCode: 0 Status: OK PackageFile: mitoClone2_1.12.0.tar.gz PackageFileSize: 1.445 MiB