Package: mitch Version: 1.18.4 Command: /Library/Frameworks/R.framework/Resources/bin/R CMD INSTALL mitch StartedAt: 2025-03-31 15:53:57 -0400 (Mon, 31 Mar 2025) EndedAt: 2025-03-31 15:54:12 -0400 (Mon, 31 Mar 2025) EllapsedTime: 14.7 seconds RetCode: 0 Status: OK