Package: mitch Version: 1.18.4 Command: /Library/Frameworks/R.framework/Resources/bin/R CMD check --install=check:mitch.install-out.txt --library=/Library/Frameworks/R.framework/Resources/library --no-vignettes --timings mitch_1.18.4.tar.gz StartedAt: 2025-04-02 01:10:24 -0400 (Wed, 02 Apr 2025) EndedAt: 2025-04-02 01:14:17 -0400 (Wed, 02 Apr 2025) EllapsedTime: 232.7 seconds RetCode: 0 Status: OK CheckDir: mitch.Rcheck Warnings: 0