Package: mitch Version: 1.18.4 Command: /Library/Frameworks/R.framework/Resources/bin/R CMD build --keep-empty-dirs --no-resave-data mitch StartedAt: 2025-04-01 03:18:12 -0400 (Tue, 01 Apr 2025) EndedAt: 2025-04-01 03:23:50 -0400 (Tue, 01 Apr 2025) EllapsedTime: 337.3 seconds RetCode: 0 Status: OK PackageFile: mitch_1.18.4.tar.gz PackageFileSize: 995.8 KiB