Package: mitch Version: 1.18.4 Command: rm -rf mitch.buildbin-libdir && mkdir mitch.buildbin-libdir && /Users/biocbuild/BBS/utils/build-universal.sh mitch_1.18.4.tar.gz /Library/Frameworks/R.framework/Resources/bin/R mitch.buildbin-libdir StartedAt: 2025-04-02 15:13:01 -0400 (Wed, 02 Apr 2025) EndedAt: 2025-04-02 15:13:10 -0400 (Wed, 02 Apr 2025) EllapsedTime: 9.1 seconds RetCode: 0 Status: OK PackageFile: mitch_1.18.4.tgz PackageFileSize: 1.092 MiB