Package: mistyR Version: 1.14.0 Command: /Library/Frameworks/R.framework/Resources/bin/R CMD check --install=check:mistyR.install-out.txt --library=/Library/Frameworks/R.framework/Resources/library --no-vignettes --timings mistyR_1.14.0.tar.gz StartedAt: 2025-04-02 01:10:14 -0400 (Wed, 02 Apr 2025) EndedAt: 2025-04-02 01:16:20 -0400 (Wed, 02 Apr 2025) EllapsedTime: 366.5 seconds RetCode: 1 Status: ERROR CheckDir: mistyR.Rcheck Warnings: NA