Package: missRows Version: 1.26.0 Command: /home/biocbuild/R/R/bin/R CMD INSTALL missRows StartedAt: 2025-03-31 20:23:03 -0000 (Mon, 31 Mar 2025) EndedAt: 2025-03-31 20:23:39 -0000 (Mon, 31 Mar 2025) EllapsedTime: 36.0 seconds RetCode: 0 Status: OK