Package: missRows Version: 1.26.0 Command: chmod a+r missRows -R && F:\biocbuild\bbs-3.20-bioc\R\bin\R.exe CMD build --keep-empty-dirs --no-resave-data missRows StartedAt: 2025-03-31 20:13:35 -0400 (Mon, 31 Mar 2025) EndedAt: 2025-03-31 20:15:51 -0400 (Mon, 31 Mar 2025) EllapsedTime: 135.6 seconds RetCode: 0 Status: OK PackageFile: missRows_1.26.0.tar.gz PackageFileSize: 596.1 KiB