Package: missRows Version: 1.26.0 Command: rm -rf missRows.buildbin-libdir && mkdir missRows.buildbin-libdir && F:\biocbuild\bbs-3.20-bioc\R\bin\R.exe CMD INSTALL --build --library=missRows.buildbin-libdir missRows_1.26.0.tar.gz StartedAt: 2025-04-01 08:38:22 -0400 (Tue, 01 Apr 2025) EndedAt: 2025-04-01 08:39:05 -0400 (Tue, 01 Apr 2025) EllapsedTime: 42.4 seconds RetCode: 0 Status: OK PackageFile: missRows_1.26.0.zip PackageFileSize: 835.8 KiB