Package: missRows Version: 1.26.0 Command: /home/biocbuild/bbs-3.20-bioc/R/bin/R CMD check --install=check:missRows.install-out.txt --library=/home/biocbuild/bbs-3.20-bioc/R/site-library --timings missRows_1.26.0.tar.gz StartedAt: 2025-04-01 00:00:57 -0400 (Tue, 01 Apr 2025) EndedAt: 2025-04-01 00:05:05 -0400 (Tue, 01 Apr 2025) EllapsedTime: 248.2 seconds RetCode: 0 Status: OK CheckDir: missRows.Rcheck Warnings: 0