Package: missRows Version: 1.26.0 Command: /Library/Frameworks/R.framework/Resources/bin/R CMD check --install=check:missRows.install-out.txt --library=/Library/Frameworks/R.framework/Resources/library --no-vignettes --timings missRows_1.26.0.tar.gz StartedAt: 2025-04-01 05:47:23 -0400 (Tue, 01 Apr 2025) EndedAt: 2025-04-01 05:53:46 -0400 (Tue, 01 Apr 2025) EllapsedTime: 383.1 seconds RetCode: 0 Status: OK CheckDir: missRows.Rcheck Warnings: 0