Package: missRows Version: 1.26.0 Command: /Library/Frameworks/R.framework/Resources/bin/R CMD build --keep-empty-dirs --no-resave-data missRows StartedAt: 2025-04-01 03:15:52 -0400 (Tue, 01 Apr 2025) EndedAt: 2025-04-01 03:18:12 -0400 (Tue, 01 Apr 2025) EllapsedTime: 140.1 seconds RetCode: 0 Status: OK PackageFile: missRows_1.26.0.tar.gz PackageFileSize: 608.5 KiB