Package: missMethyl Version: 1.40.3 Command: F:\biocbuild\bbs-3.20-bioc\R\bin\R.exe CMD check --no-multiarch --install=check:missMethyl.install-out.txt --library=F:\biocbuild\bbs-3.20-bioc\R\library --no-vignettes --timings missMethyl_1.40.3.tar.gz StartedAt: 2025-04-01 03:33:28 -0400 (Tue, 01 Apr 2025) EndedAt: 2025-04-01 04:00:11 -0400 (Tue, 01 Apr 2025) EllapsedTime: 1603.0 seconds RetCode: 0 Status: WARNINGS CheckDir: missMethyl.Rcheck Warnings: 1