Package: missMethyl Version: 1.40.3 Command: chmod a+r missMethyl -R && F:\biocbuild\bbs-3.20-bioc\R\bin\R.exe CMD build --keep-empty-dirs --no-resave-data missMethyl StartedAt: 2025-03-31 20:13:28 -0400 (Mon, 31 Mar 2025) EndedAt: 2025-03-31 20:35:53 -0400 (Mon, 31 Mar 2025) EllapsedTime: 1345.1 seconds RetCode: 0 Status: OK PackageFile: missMethyl_1.40.3.tar.gz PackageFileSize: 638.9 KiB