Package: mirTarRnaSeq Version: 1.14.0 Command: /Library/Frameworks/R.framework/Resources/bin/R CMD build --keep-empty-dirs --no-resave-data mirTarRnaSeq StartedAt: 2025-03-31 20:07:36 -0400 (Mon, 31 Mar 2025) EndedAt: 2025-03-31 20:16:50 -0400 (Mon, 31 Mar 2025) EllapsedTime: 553.8 seconds RetCode: 0 Status: OK PackageFile: mirTarRnaSeq_1.14.0.tar.gz PackageFileSize: 3.426 MiB