Package: mirIntegrator Version: 1.36.0 Command: /home/biocbuild/R/R/bin/R CMD INSTALL mirIntegrator StartedAt: 2025-03-31 20:25:34 -0000 (Mon, 31 Mar 2025) EndedAt: 2025-03-31 20:25:55 -0000 (Mon, 31 Mar 2025) EllapsedTime: 21.0 seconds RetCode: 0 Status: OK