Package: mirIntegrator Version: 1.36.0 Command: rm -rf mirIntegrator.buildbin-libdir && mkdir mirIntegrator.buildbin-libdir && F:\biocbuild\bbs-3.20-bioc\R\bin\R.exe CMD INSTALL --build --library=mirIntegrator.buildbin-libdir mirIntegrator_1.36.0.tar.gz StartedAt: 2025-04-01 08:37:53 -0400 (Tue, 01 Apr 2025) EndedAt: 2025-04-01 08:38:18 -0400 (Tue, 01 Apr 2025) EllapsedTime: 25.2 seconds RetCode: 0 Status: OK PackageFile: mirIntegrator_1.36.0.zip PackageFileSize: 1.713 MiB