Package: mirIntegrator Version: 1.36.0 Command: /home/biocbuild/bbs-3.20-bioc/R/bin/R CMD build --keep-empty-dirs --no-resave-data --md5 mirIntegrator StartedAt: 2025-03-31 18:03:57 -0400 (Mon, 31 Mar 2025) EndedAt: 2025-03-31 18:05:00 -0400 (Mon, 31 Mar 2025) EllapsedTime: 63.1 seconds RetCode: 0 Status: OK PackageFile: mirIntegrator_1.36.0.tar.gz PackageFileSize: 1.809 MiB