Package: mirIntegrator Version: 1.36.0 Command: /Library/Frameworks/R.framework/Resources/bin/R CMD check --install=check:mirIntegrator.install-out.txt --library=/Library/Frameworks/R.framework/Resources/library --no-vignettes --timings mirIntegrator_1.36.0.tar.gz StartedAt: 2025-04-02 01:05:40 -0400 (Wed, 02 Apr 2025) EndedAt: 2025-04-02 01:08:22 -0400 (Wed, 02 Apr 2025) EllapsedTime: 162.3 seconds RetCode: 0 Status: OK CheckDir: mirIntegrator.Rcheck Warnings: 0