Package: minfi Version: 1.52.1 Command: /home/biocbuild/bbs-3.20-bioc/R/bin/R CMD INSTALL minfi StartedAt: 2025-03-31 15:55:55 -0400 (Mon, 31 Mar 2025) EndedAt: 2025-03-31 15:56:43 -0400 (Mon, 31 Mar 2025) EllapsedTime: 47.6 seconds RetCode: 0 Status: OK