Package: minfi Version: 1.52.1 Command: /Library/Frameworks/R.framework/Resources/bin/R CMD INSTALL minfi StartedAt: 2025-03-31 16:31:27 -0400 (Mon, 31 Mar 2025) EndedAt: 2025-03-31 16:33:13 -0400 (Mon, 31 Mar 2025) EllapsedTime: 106.4 seconds RetCode: 0 Status: OK