Package: minfi Version: 1.52.1 Command: /Library/Frameworks/R.framework/Resources/bin/R CMD build --keep-empty-dirs --no-resave-data minfi StartedAt: 2025-03-31 20:04:42 -0400 (Mon, 31 Mar 2025) EndedAt: 2025-03-31 20:08:24 -0400 (Mon, 31 Mar 2025) EllapsedTime: 221.4 seconds RetCode: 0 Status: OK PackageFile: minfi_1.52.1.tar.gz PackageFileSize: 505.4 KiB