Package: mina Version: 1.14.0 Command: /home/biocbuild/R/R/bin/R CMD INSTALL mina StartedAt: 2025-03-31 20:44:17 -0000 (Mon, 31 Mar 2025) EndedAt: 2025-03-31 20:44:57 -0000 (Mon, 31 Mar 2025) EllapsedTime: 39.9 seconds RetCode: 0 Status: OK