Package: mina Version: 1.14.0 Command: /Library/Frameworks/R.framework/Resources/bin/R CMD build --keep-empty-dirs --no-resave-data mina StartedAt: 2025-04-01 03:09:10 -0400 (Tue, 01 Apr 2025) EndedAt: 2025-04-01 03:11:19 -0400 (Tue, 01 Apr 2025) EllapsedTime: 129.1 seconds RetCode: 0 Status: OK PackageFile: mina_1.14.0.tar.gz PackageFileSize: 4.018 MiB