Package: mina Version: 1.14.0 Command: rm -rf mina.buildbin-libdir && mkdir mina.buildbin-libdir && /Users/biocbuild/BBS/utils/build-universal.sh mina_1.14.0.tar.gz /Library/Frameworks/R.framework/Resources/bin/R mina.buildbin-libdir StartedAt: 2025-04-02 15:10:30 -0400 (Wed, 02 Apr 2025) EndedAt: 2025-04-02 15:11:09 -0400 (Wed, 02 Apr 2025) EllapsedTime: 39.8 seconds RetCode: 0 Status: OK PackageFile: mina_1.14.0.tgz PackageFileSize: 7.849 MiB