Package: mimager Version: 1.30.0 Command: chmod a+r mimager -R && F:\biocbuild\bbs-3.20-bioc\R\bin\R.exe CMD build --keep-empty-dirs --no-resave-data mimager StartedAt: 2025-03-31 20:10:26 -0400 (Mon, 31 Mar 2025) EndedAt: 2025-03-31 20:11:43 -0400 (Mon, 31 Mar 2025) EllapsedTime: 76.7 seconds RetCode: 0 Status: OK PackageFile: mimager_1.30.0.tar.gz PackageFileSize: 662 KiB