Package: mimager Version: 1.30.0 Command: rm -rf mimager.buildbin-libdir && mkdir mimager.buildbin-libdir && F:\biocbuild\bbs-3.20-bioc\R\bin\R.exe CMD INSTALL --build --library=mimager.buildbin-libdir mimager_1.30.0.tar.gz StartedAt: 2025-04-01 08:37:15 -0400 (Tue, 01 Apr 2025) EndedAt: 2025-04-01 08:37:51 -0400 (Tue, 01 Apr 2025) EllapsedTime: 36.2 seconds RetCode: 0 Status: OK PackageFile: mimager_1.30.0.zip PackageFileSize: 713.6 KiB