Package: mimager Version: 1.30.0 Command: /home/biocbuild/bbs-3.20-bioc/R/bin/R CMD build --keep-empty-dirs --no-resave-data --md5 mimager StartedAt: 2025-03-31 18:02:10 -0400 (Mon, 31 Mar 2025) EndedAt: 2025-03-31 18:03:03 -0400 (Mon, 31 Mar 2025) EllapsedTime: 53.0 seconds RetCode: 0 Status: OK PackageFile: mimager_1.30.0.tar.gz PackageFileSize: 659.5 KiB