Package: mimager Version: 1.30.0 Command: /Library/Frameworks/R.framework/Resources/bin/R CMD INSTALL mimager StartedAt: 2025-03-31 15:25:14 -0400 (Mon, 31 Mar 2025) EndedAt: 2025-03-31 15:26:12 -0400 (Mon, 31 Mar 2025) EllapsedTime: 57.8 seconds RetCode: 0 Status: OK