Package: miloR Version: 2.2.0 Command: /Library/Frameworks/R.framework/Resources/bin/R CMD INSTALL miloR StartedAt: 2025-03-31 17:51:56 -0400 (Mon, 31 Mar 2025) EndedAt: 2025-03-31 17:53:57 -0400 (Mon, 31 Mar 2025) EllapsedTime: 120.8 seconds RetCode: 0 Status: OK