Package: miloR Version: 2.2.0 Command: /Library/Frameworks/R.framework/Resources/bin/R CMD check --install=check:miloR.install-out.txt --library=/Library/Frameworks/R.framework/Resources/library --no-vignettes --timings miloR_2.2.0.tar.gz StartedAt: 2025-04-02 00:52:34 -0400 (Wed, 02 Apr 2025) EndedAt: 2025-04-02 01:02:10 -0400 (Wed, 02 Apr 2025) EllapsedTime: 575.7 seconds RetCode: 0 Status: OK CheckDir: miloR.Rcheck Warnings: 0