Package: midasHLA Version: 1.14.0 Command: F:\biocbuild\bbs-3.20-bioc\R\bin\R.exe CMD check --no-multiarch --install=check:midasHLA.install-out.txt --library=F:\biocbuild\bbs-3.20-bioc\R\library --no-vignettes --timings midasHLA_1.14.0.tar.gz StartedAt: 2025-04-01 03:28:19 -0400 (Tue, 01 Apr 2025) EndedAt: 2025-04-01 03:34:11 -0400 (Tue, 01 Apr 2025) EllapsedTime: 351.9 seconds RetCode: 0 Status: WARNINGS CheckDir: midasHLA.Rcheck Warnings: 1