Package: midasHLA Version: 1.14.0 Command: rm -rf midasHLA.buildbin-libdir && mkdir midasHLA.buildbin-libdir && F:\biocbuild\bbs-3.20-bioc\R\bin\R.exe CMD INSTALL --build --library=midasHLA.buildbin-libdir midasHLA_1.14.0.tar.gz StartedAt: 2025-04-01 08:37:01 -0400 (Tue, 01 Apr 2025) EndedAt: 2025-04-01 08:38:17 -0400 (Tue, 01 Apr 2025) EllapsedTime: 76.0 seconds RetCode: 0 Status: OK PackageFile: midasHLA_1.14.0.zip PackageFileSize: 2.802 MiB