Package: midasHLA Version: 1.14.0 Command: /home/biocbuild/bbs-3.20-bioc/R/bin/R CMD check --install=check:midasHLA.install-out.txt --library=/home/biocbuild/bbs-3.20-bioc/R/site-library --timings midasHLA_1.14.0.tar.gz StartedAt: 2025-03-31 23:55:30 -0400 (Mon, 31 Mar 2025) EndedAt: 2025-04-01 00:01:57 -0400 (Tue, 01 Apr 2025) EllapsedTime: 386.4 seconds RetCode: 0 Status: WARNINGS CheckDir: midasHLA.Rcheck Warnings: 1