Package: microbiomeMarker Version: 1.12.2 Command: F:\biocbuild\bbs-3.20-bioc\R\bin\R.exe CMD check --no-multiarch --install=check:microbiomeMarker.install-out.txt --library=F:\biocbuild\bbs-3.20-bioc\R\library --no-vignettes --timings microbiomeMarker_1.12.2.tar.gz StartedAt: 2025-04-01 03:26:55 -0400 (Tue, 01 Apr 2025) EndedAt: 2025-04-01 03:36:18 -0400 (Tue, 01 Apr 2025) EllapsedTime: 563.0 seconds RetCode: 0 Status: OK CheckDir: microbiomeMarker.Rcheck Warnings: 0