############################################################################## ############################################################################## ### ### Running command: ### ### /Library/Frameworks/R.framework/Resources/bin/R CMD check --install=check:microbiomeMarker.install-out.txt --library=/Library/Frameworks/R.framework/Resources/library --no-vignettes --timings microbiomeMarker_1.12.2.tar.gz ### ############################################################################## ############################################################################## * using log directory ‘/Users/biocbuild/bbs-3.20-bioc/meat/microbiomeMarker.Rcheck’ * using R version 4.4.3 (2025-02-28) * using platform: x86_64-apple-darwin20 * R was compiled by Apple clang version 14.0.0 (clang-1400.0.29.202) GNU Fortran (GCC) 12.2.0 * running under: macOS Monterey 12.7.6 * using session charset: UTF-8 * using option ‘--no-vignettes’ * checking for file ‘microbiomeMarker/DESCRIPTION’ ... OK * this is package ‘microbiomeMarker’ version ‘1.12.2’ * package encoding: UTF-8 * checking package namespace information ... OK * checking package dependencies ... OK * checking if this is a source package ... OK * checking if there is a namespace ... OK * checking for hidden files and directories ... OK * checking for portable file names ... OK * checking for sufficient/correct file permissions ... OK * checking whether package ‘microbiomeMarker’ can be installed ... OK * checking installed package size ... OK * checking package directory ... OK * checking ‘build’ directory ... OK * checking DESCRIPTION meta-information ... OK * checking top-level files ... OK * checking for left-over files ... OK * checking index information ... OK * checking package subdirectories ... OK * checking code files for non-ASCII characters ... OK * checking R files for syntax errors ... OK * checking whether the package can be loaded ... OK * checking whether the package can be loaded with stated dependencies ... OK * checking whether the package can be unloaded cleanly ... OK * checking whether the namespace can be loaded with stated dependencies ... OK * checking whether the namespace can be unloaded cleanly ... OK * checking dependencies in R code ... OK * checking S3 generic/method consistency ... OK * checking replacement functions ... OK * checking foreign function calls ... OK * checking R code for possible problems ... OK * checking Rd files ... OK * checking Rd metadata ... OK * checking Rd cross-references ... OK * checking for missing documentation entries ... OK * checking for code/documentation mismatches ... OK * checking Rd \usage sections ... OK * checking Rd contents ... OK * checking for unstated dependencies in examples ... OK * checking contents of ‘data’ directory ... OK * checking data for non-ASCII characters ... OK * checking data for ASCII and uncompressed saves ... OK * checking R/sysdata.rda ... OK * checking files in ‘vignettes’ ... OK * checking examples ... OK Examples with CPU (user + system) or elapsed time > 5s user system elapsed run_ancombc 35.097 0.190 35.676 plot_cladogram 22.681 0.306 26.031 run_aldex 20.300 1.405 22.158 plot_heatmap 14.447 0.139 15.675 run_lefse 13.805 0.121 14.096 run_deseq2 13.250 0.081 13.710 plot_abundance 10.536 0.042 10.891 plot_sl_roc 9.461 0.164 9.858 run_metagenomeseq 8.302 0.066 8.491 run_test_two_groups 7.829 0.020 7.883 run_test_multiple_groups 7.759 0.021 7.800 assign-marker_table 7.437 0.328 8.126 effect_size-plot 7.433 0.058 7.714 run_simple_stat 7.123 0.022 7.197 marker_table-methods 6.898 0.028 7.231 run_limma_voom 6.830 0.021 6.896 subset_marker 6.815 0.025 6.994 run_edger 6.653 0.024 6.697 * checking for unstated dependencies in ‘tests’ ... OK * checking tests ... Running ‘testthat.R’ OK * checking for unstated dependencies in vignettes ... OK * checking package vignettes ... OK * checking running R code from vignettes ... SKIPPED * checking re-building of vignette outputs ... SKIPPED * checking PDF version of manual ... OK * DONE Status: OK