Package: microbiomeExplorer Version: 1.16.0 Command: /Library/Frameworks/R.framework/Resources/bin/R CMD INSTALL microbiomeExplorer StartedAt: 2025-03-31 16:24:34 -0400 (Mon, 31 Mar 2025) EndedAt: 2025-03-31 16:25:03 -0400 (Mon, 31 Mar 2025) EllapsedTime: 28.7 seconds RetCode: 0 Status: OK