Package: microbiomeExplorer Version: 1.16.0 Command: /Library/Frameworks/R.framework/Resources/bin/R CMD check --install=check:microbiomeExplorer.install-out.txt --library=/Library/Frameworks/R.framework/Resources/library --no-vignettes --timings microbiomeExplorer_1.16.0.tar.gz StartedAt: 2025-04-01 05:35:04 -0400 (Tue, 01 Apr 2025) EndedAt: 2025-04-01 05:38:34 -0400 (Tue, 01 Apr 2025) EllapsedTime: 209.7 seconds RetCode: 0 Status: OK CheckDir: microbiomeExplorer.Rcheck Warnings: 0