Package: microbiomeExplorer Version: 1.16.0 Command: /Library/Frameworks/R.framework/Resources/bin/R CMD build --keep-empty-dirs --no-resave-data microbiomeExplorer StartedAt: 2025-03-31 20:02:56 -0400 (Mon, 31 Mar 2025) EndedAt: 2025-03-31 20:04:27 -0400 (Mon, 31 Mar 2025) EllapsedTime: 91.2 seconds RetCode: 0 Status: OK PackageFile: microbiomeExplorer_1.16.0.tar.gz PackageFileSize: 2.976 MiB