Package: microbiomeDASim Version: 1.20.0 Command: /home/biocbuild/R/R/bin/R CMD INSTALL microbiomeDASim StartedAt: 2025-03-31 20:58:30 -0000 (Mon, 31 Mar 2025) EndedAt: 2025-03-31 20:58:55 -0000 (Mon, 31 Mar 2025) EllapsedTime: 25.5 seconds RetCode: 0 Status: OK