Package: microbiomeDASim Version: 1.20.0 Command: /home/biocbuild/R/R/bin/R CMD build --keep-empty-dirs --no-resave-data microbiomeDASim StartedAt: 2025-04-01 00:46:21 -0000 (Tue, 01 Apr 2025) EndedAt: 2025-04-01 00:47:15 -0000 (Tue, 01 Apr 2025) EllapsedTime: 54.0 seconds RetCode: 0 Status: OK PackageFile: microbiomeDASim_1.20.0.tar.gz PackageFileSize: 1.491 MiB