Package: microbiomeDASim Version: 1.20.0 Command: /Library/Frameworks/R.framework/Resources/bin/R CMD build --keep-empty-dirs --no-resave-data microbiomeDASim StartedAt: 2025-03-31 20:02:49 -0400 (Mon, 31 Mar 2025) EndedAt: 2025-03-31 20:04:27 -0400 (Mon, 31 Mar 2025) EllapsedTime: 98.6 seconds RetCode: 0 Status: OK PackageFile: microbiomeDASim_1.20.0.tar.gz PackageFileSize: 1.498 MiB